BEGIN:VCALENDAR
VERSION:2.0
PRODID:-//Tukios.com/
BEGIN:VEVENT
UID:12e48fc3-95bf-48d3-bb20-60d612de121f@www.coxiveyfuneralhome.com
DTSTAMP:20260421T004137Z
DTSTART:20260421T213000Z
DTEND:20260421T223000Z
SUMMARY:Visitation
DESCRIPTION:
URL:https://www.coxiveyfuneralhome.com/obituaries/eva-belcher
LOCATION: 502 South Scott Street  Bainbridge GA 39819
GEO:30.9014112;-84.5686492
END:VEVENT
END:VCALENDAR