BEGIN:VCALENDAR
VERSION:2.0
PRODID:-//Tukios.com/
BEGIN:VEVENT
UID:b601b92e-ac1a-4ea8-85b9-84c91785c484@www.coxiveyfuneralhome.com
DTSTAMP:20260421T004138Z
DTSTART:20260422T150000Z
DTEND:20260422T160000Z
SUMMARY:Graveside Service
DESCRIPTION:
URL:https://www.coxiveyfuneralhome.com/obituaries/eva-belcher
LOCATION:  Cemetery Street  Bainbridge GA 39817
GEO:30.908;-84.5722346
END:VEVENT
END:VCALENDAR